BEGIN:VCALENDAR
VERSION:2.0
PRODID:-//jEvents 2.0 for Joomla//EN
CALSCALE:GREGORIAN
METHOD:PUBLISH
BEGIN:VTIMEZONE
TZID:America/Edmonton
BEGIN:STANDARD
DTSTART:20211205T140000
RDATE:20220313T030000
TZOFFSETFROM:-0600
TZOFFSETTO:-0700
TZNAME:America/Edmonton MST
END:STANDARD
BEGIN:STANDARD
DTSTART:20221106T010000
RDATE:20230312T030000
TZOFFSETFROM:-0600
TZOFFSETTO:-0700
TZNAME:America/Edmonton MST
END:STANDARD
BEGIN:STANDARD
DTSTART:20231105T010000
RDATE:20240310T030000
TZOFFSETFROM:-0600
TZOFFSETTO:-0700
TZNAME:America/Edmonton MST
END:STANDARD
BEGIN:STANDARD
DTSTART:20241103T010000
RDATE:20250309T030000
TZOFFSETFROM:-0600
TZOFFSETTO:-0700
TZNAME:America/Edmonton MST
END:STANDARD
BEGIN:STANDARD
DTSTART:20251102T010000
RDATE:20260308T030000
TZOFFSETFROM:-0600
TZOFFSETTO:-0700
TZNAME:America/Edmonton MST
END:STANDARD
BEGIN:STANDARD
DTSTART:20261101T010000
RDATE:20270314T030000
TZOFFSETFROM:-0600
TZOFFSETTO:-0700
TZNAME:America/Edmonton MST
END:STANDARD
BEGIN:STANDARD
DTSTART:20271107T010000
RDATE:20280312T030000
TZOFFSETFROM:-0600
TZOFFSETTO:-0700
TZNAME:America/Edmonton MST
END:STANDARD
BEGIN:STANDARD
DTSTART:20281105T010000
RDATE:20290311T030000
TZOFFSETFROM:-0600
TZOFFSETTO:-0700
TZNAME:America/Edmonton MST
END:STANDARD
BEGIN:STANDARD
DTSTART:20291104T010000
RDATE:20300310T030000
TZOFFSETFROM:-0600
TZOFFSETTO:-0700
TZNAME:America/Edmonton MST
END:STANDARD
BEGIN:STANDARD
DTSTART:20301103T010000
RDATE:20310309T030000
TZOFFSETFROM:-0600
TZOFFSETTO:-0700
TZNAME:America/Edmonton MST
END:STANDARD
BEGIN:STANDARD
DTSTART:20311102T010000
RDATE:20320314T030000
TZOFFSETFROM:-0600
TZOFFSETTO:-0700
TZNAME:America/Edmonton MST
END:STANDARD
BEGIN:DAYLIGHT
DTSTART:20220313T030000
RDATE:20221106T010000
TZOFFSETFROM:-0700
TZOFFSETTO:-0600
TZNAME:America/Edmonton MDT
END:DAYLIGHT
BEGIN:DAYLIGHT
DTSTART:20230312T030000
RDATE:20231105T010000
TZOFFSETFROM:-0700
TZOFFSETTO:-0600
TZNAME:America/Edmonton MDT
END:DAYLIGHT
BEGIN:DAYLIGHT
DTSTART:20240310T030000
RDATE:20241103T010000
TZOFFSETFROM:-0700
TZOFFSETTO:-0600
TZNAME:America/Edmonton MDT
END:DAYLIGHT
BEGIN:DAYLIGHT
DTSTART:20250309T030000
RDATE:20251102T010000
TZOFFSETFROM:-0700
TZOFFSETTO:-0600
TZNAME:America/Edmonton MDT
END:DAYLIGHT
BEGIN:DAYLIGHT
DTSTART:20260308T030000
RDATE:20261101T010000
TZOFFSETFROM:-0700
TZOFFSETTO:-0600
TZNAME:America/Edmonton MDT
END:DAYLIGHT
BEGIN:DAYLIGHT
DTSTART:20270314T030000
RDATE:20271107T010000
TZOFFSETFROM:-0700
TZOFFSETTO:-0600
TZNAME:America/Edmonton MDT
END:DAYLIGHT
BEGIN:DAYLIGHT
DTSTART:20280312T030000
RDATE:20281105T010000
TZOFFSETFROM:-0700
TZOFFSETTO:-0600
TZNAME:America/Edmonton MDT
END:DAYLIGHT
BEGIN:DAYLIGHT
DTSTART:20290311T030000
RDATE:20291104T010000
TZOFFSETFROM:-0700
TZOFFSETTO:-0600
TZNAME:America/Edmonton MDT
END:DAYLIGHT
BEGIN:DAYLIGHT
DTSTART:20300310T030000
RDATE:20301103T010000
TZOFFSETFROM:-0700
TZOFFSETTO:-0600
TZNAME:America/Edmonton MDT
END:DAYLIGHT
BEGIN:DAYLIGHT
DTSTART:20310309T030000
RDATE:20311102T010000
TZOFFSETFROM:-0700
TZOFFSETTO:-0600
TZNAME:America/Edmonton MDT
END:DAYLIGHT
END:VTIMEZONE
BEGIN:VEVENT
UID:3f5fukmmn7rhhbe0c96dhj79vp@google.com
CATEGORIES:DEFAULT
CREATED:20221019T150006
SUMMARY:Conférence de la FSFA (Randy Chevrier)
DESCRIPTION;ENCODING=QUOTED-PRINTABLE:La conférence virtuelle est de retour pour l'année 2022!&nbsp; Cette année&
 nbsp;notre conférencier est&nbsp;<b>Randy Chevrier</b>,&nbsp;un ancien joue
 ur de football américain dans le LCF et le LNF, il est trois fois gagnant d
 e la coupe Grey avec les Stampeders et les Elks. Il travaille maintenant co
 mme pompier à Calgary.&nbsp; Randy parlera du leadership et de la résilienc
 e pour arriver au succès.<br><br>La conférence pour les écoles est le 29 no
 vembre à 14h00 sur la plateforme Zoom et est gratuite pour les classes part
 icipantes.&nbsp;&nbsp;<span style="background-color: var(--textfield-surfac
 e); color: var(--on-surface);">Pour s'inscrire, remplissez le</span><span s
 tyle="background-color: var(--textfield-surface); color: var(--on-surface);
 ">&nbsp;</span><a href="https://lafsfa.wufoo.com/forms/z7wgakj0fesol9/" sty
 le="background-color: var(--textfield-surface);">formulaire d'inscription</
 a><span style="background-color: var(--textfield-surface); color: var(--on-
 surface);">.&nbsp; Chaque classe qui va participer doit remplir&nbsp;seulem
 ent une fois le formulaire.</span>
DTSTAMP:20260419T070008Z
DTSTART;TZID=America/Edmonton:20221206T140000
DTEND;TZID=America/Edmonton:20221206T150000
SEQUENCE:1
TRANSP:OPAQUE
END:VEVENT
END:VCALENDAR