BEGIN:VCALENDAR
VERSION:2.0
PRODID:-//jEvents 2.0 for Joomla//EN
CALSCALE:GREGORIAN
METHOD:PUBLISH
BEGIN:VTIMEZONE
TZID:America/Edmonton
BEGIN:STANDARD
DTSTART:20211109T000000
RDATE:20220313T030000
TZOFFSETFROM:-0600
TZOFFSETTO:-0700
TZNAME:America/Edmonton MST
END:STANDARD
BEGIN:STANDARD
DTSTART:20221106T010000
RDATE:20230312T030000
TZOFFSETFROM:-0600
TZOFFSETTO:-0700
TZNAME:America/Edmonton MST
END:STANDARD
BEGIN:STANDARD
DTSTART:20231105T010000
RDATE:20240310T030000
TZOFFSETFROM:-0600
TZOFFSETTO:-0700
TZNAME:America/Edmonton MST
END:STANDARD
BEGIN:STANDARD
DTSTART:20241103T010000
RDATE:20250309T030000
TZOFFSETFROM:-0600
TZOFFSETTO:-0700
TZNAME:America/Edmonton MST
END:STANDARD
BEGIN:STANDARD
DTSTART:20251102T010000
RDATE:20260308T030000
TZOFFSETFROM:-0600
TZOFFSETTO:-0700
TZNAME:America/Edmonton MST
END:STANDARD
BEGIN:STANDARD
DTSTART:20261101T010000
RDATE:20270314T030000
TZOFFSETFROM:-0600
TZOFFSETTO:-0700
TZNAME:America/Edmonton MST
END:STANDARD
BEGIN:STANDARD
DTSTART:20271107T010000
RDATE:20280312T030000
TZOFFSETFROM:-0600
TZOFFSETTO:-0700
TZNAME:America/Edmonton MST
END:STANDARD
BEGIN:STANDARD
DTSTART:20281105T010000
RDATE:20290311T030000
TZOFFSETFROM:-0600
TZOFFSETTO:-0700
TZNAME:America/Edmonton MST
END:STANDARD
BEGIN:STANDARD
DTSTART:20291104T010000
RDATE:20300310T030000
TZOFFSETFROM:-0600
TZOFFSETTO:-0700
TZNAME:America/Edmonton MST
END:STANDARD
BEGIN:STANDARD
DTSTART:20301103T010000
RDATE:20310309T030000
TZOFFSETFROM:-0600
TZOFFSETTO:-0700
TZNAME:America/Edmonton MST
END:STANDARD
BEGIN:STANDARD
DTSTART:20311102T010000
RDATE:20320314T030000
TZOFFSETFROM:-0600
TZOFFSETTO:-0700
TZNAME:America/Edmonton MST
END:STANDARD
BEGIN:DAYLIGHT
DTSTART:20220313T030000
RDATE:20221106T010000
TZOFFSETFROM:-0700
TZOFFSETTO:-0600
TZNAME:America/Edmonton MDT
END:DAYLIGHT
BEGIN:DAYLIGHT
DTSTART:20230312T030000
RDATE:20231105T010000
TZOFFSETFROM:-0700
TZOFFSETTO:-0600
TZNAME:America/Edmonton MDT
END:DAYLIGHT
BEGIN:DAYLIGHT
DTSTART:20240310T030000
RDATE:20241103T010000
TZOFFSETFROM:-0700
TZOFFSETTO:-0600
TZNAME:America/Edmonton MDT
END:DAYLIGHT
BEGIN:DAYLIGHT
DTSTART:20250309T030000
RDATE:20251102T010000
TZOFFSETFROM:-0700
TZOFFSETTO:-0600
TZNAME:America/Edmonton MDT
END:DAYLIGHT
BEGIN:DAYLIGHT
DTSTART:20260308T030000
RDATE:20261101T010000
TZOFFSETFROM:-0700
TZOFFSETTO:-0600
TZNAME:America/Edmonton MDT
END:DAYLIGHT
BEGIN:DAYLIGHT
DTSTART:20270314T030000
RDATE:20271107T010000
TZOFFSETFROM:-0700
TZOFFSETTO:-0600
TZNAME:America/Edmonton MDT
END:DAYLIGHT
BEGIN:DAYLIGHT
DTSTART:20280312T030000
RDATE:20281105T010000
TZOFFSETFROM:-0700
TZOFFSETTO:-0600
TZNAME:America/Edmonton MDT
END:DAYLIGHT
BEGIN:DAYLIGHT
DTSTART:20290311T030000
RDATE:20291104T010000
TZOFFSETFROM:-0700
TZOFFSETTO:-0600
TZNAME:America/Edmonton MDT
END:DAYLIGHT
BEGIN:DAYLIGHT
DTSTART:20300310T030000
RDATE:20301103T010000
TZOFFSETFROM:-0700
TZOFFSETTO:-0600
TZNAME:America/Edmonton MDT
END:DAYLIGHT
BEGIN:DAYLIGHT
DTSTART:20310309T030000
RDATE:20311102T010000
TZOFFSETFROM:-0700
TZOFFSETTO:-0600
TZNAME:America/Edmonton MDT
END:DAYLIGHT
END:VTIMEZONE
BEGIN:VEVENT
UID:6qpll724fa8drp18ta8pj95je6@google.com
CATEGORIES:DEFAULT
CREATED:20220909T111503
SUMMARY:Parlement franco-canadien de Nord et de l'Ouest
DESCRIPTION;ENCODING=QUOTED-PRINTABLE:Depuis plus de 30 ans, le Parlement Franco-canadien du Nord et de l’Ouest r
 assemble des jeunes d’expression française âgés de 16 à 25 ans provenant du
  Manitoba, de la Saskatchewan, de l’Alberta, de la Colombie-Britannique, du
  Yukon, du Nunavut et des Territoires du Nord-Ouest. Il s’agit d’une simula
 tion parlementaire organisée à tour de rôle par une province ou un territoi
 re différent d’année en année. Cette 31e édition se déroulera à Victoria, e
 n Colombie-Britannique du 10 au 13 novembre 2022.&nbsp;\n\n-&nbsp;Dates de 
 l'événement&nbsp;: 10 au 13 novembre (jeudi soir au dimanche midi).\n-&nbsp
 ;Format proposé&nbsp;: en présentiel avec un plan de gestion de risques.\n-
 &nbsp;Lieu prévu&nbsp;: Victoria, la Législature\n-&nbsp;Frais d'inscriptio
 n&nbsp;: 300$&nbsp;\n\n\nLien réseaux&nbsp;sociaux :&nbsp;\nInstragram :&nb
 sp;https://www.instagram.com/p/CeoUKQSIvng/\nFacebook :&nbsp;https://bit.ly
 /3aML06x\nTwitter :&nbsp;https://twitter.com/CJFCB/status/15352880740112957
 46\n\nCordialement&nbsp;--\n\n\n\n\nAissa Laboudi\n\n\nResponsable, Évèneme
 nts et Communications&nbsp; // Events and Communications Manager\n\n\n\nFra
 ncophonie jeunesse de l'Alberta (FJA)&nbsp;\n\n\nBureau 306,&nbsp;8627 - ru
 e Marie-Anne-Gaboury &nbsp;Edmonton (Alberta),T6C 3N1\n\n\nTél. :&nbsp;780-
 469-1344&nbsp;Courriel :&nbsp;This email address is being protected from sp
 ambots. You need JavaScript enabled to view it.
				document.getElementById
 ('cloak7e2254941b82a0df4ca97591f0d2a848').innerHTML = '';
				var prefix = 
 '&#109;a' + 'i&#108;' + '&#116;o';
				var path = 'hr' + 'ef' + '=';
				va
 r addy7e2254941b82a0df4ca97591f0d2a848 = '&#97;&#105;ss&#97;' + '&#64;';
		
 		addy7e2254941b82a0df4ca97591f0d2a848 = addy7e2254941b82a0df4ca97591f0d2a8
 48 + 'fj&#97;' + '&#46;' + '&#97;b' + '&#46;' + 'c&#97;';
				var addy_text
 7e2254941b82a0df4ca97591f0d2a848 = '&#97;&#105;ss&#97;' + '&#64;' + 'fj&#97
 ;' + '&#46;' + '&#97;b' + '&#46;' + 'c&#97;';document.getElementById('cloak
 7e2254941b82a0df4ca97591f0d2a848').innerHTML += ''+addy_text7e2254941b82a0d
 f4ca97591f0d2a848+'';
		\n
DTSTAMP:20260419T065600Z
DTSTART;TZID=America/Edmonton;VALUE=DATE:20221110
DTEND;TZID=America/Edmonton;VALUE=DATE:20221114
SEQUENCE:0
TRANSP:OPAQUE
END:VEVENT
END:VCALENDAR