BEGIN:VCALENDAR
VERSION:2.0
PRODID:-//jEvents 2.0 for Joomla//EN
CALSCALE:GREGORIAN
METHOD:PUBLISH
BEGIN:VTIMEZONE
TZID:America/Edmonton
BEGIN:STANDARD
DTSTART:20210225T000000
RDATE:20210314T030000
TZOFFSETFROM:-0600
TZOFFSETTO:-0700
TZNAME:America/Edmonton MST
END:STANDARD
BEGIN:STANDARD
DTSTART:20211107T010000
RDATE:20220313T030000
TZOFFSETFROM:-0600
TZOFFSETTO:-0700
TZNAME:America/Edmonton MST
END:STANDARD
BEGIN:STANDARD
DTSTART:20221106T010000
RDATE:20230312T030000
TZOFFSETFROM:-0600
TZOFFSETTO:-0700
TZNAME:America/Edmonton MST
END:STANDARD
BEGIN:STANDARD
DTSTART:20231105T010000
RDATE:20240310T030000
TZOFFSETFROM:-0600
TZOFFSETTO:-0700
TZNAME:America/Edmonton MST
END:STANDARD
BEGIN:STANDARD
DTSTART:20241103T010000
RDATE:20250309T030000
TZOFFSETFROM:-0600
TZOFFSETTO:-0700
TZNAME:America/Edmonton MST
END:STANDARD
BEGIN:STANDARD
DTSTART:20251102T010000
RDATE:20260308T030000
TZOFFSETFROM:-0600
TZOFFSETTO:-0700
TZNAME:America/Edmonton MST
END:STANDARD
BEGIN:STANDARD
DTSTART:20261101T010000
RDATE:20270314T030000
TZOFFSETFROM:-0600
TZOFFSETTO:-0700
TZNAME:America/Edmonton MST
END:STANDARD
BEGIN:STANDARD
DTSTART:20271107T010000
RDATE:20280312T030000
TZOFFSETFROM:-0600
TZOFFSETTO:-0700
TZNAME:America/Edmonton MST
END:STANDARD
BEGIN:STANDARD
DTSTART:20281105T010000
RDATE:20290311T030000
TZOFFSETFROM:-0600
TZOFFSETTO:-0700
TZNAME:America/Edmonton MST
END:STANDARD
BEGIN:STANDARD
DTSTART:20291104T010000
RDATE:20300310T030000
TZOFFSETFROM:-0600
TZOFFSETTO:-0700
TZNAME:America/Edmonton MST
END:STANDARD
BEGIN:STANDARD
DTSTART:20301103T010000
RDATE:20310309T030000
TZOFFSETFROM:-0600
TZOFFSETTO:-0700
TZNAME:America/Edmonton MST
END:STANDARD
BEGIN:STANDARD
DTSTART:20311102T010000
RDATE:20320314T030000
TZOFFSETFROM:-0600
TZOFFSETTO:-0700
TZNAME:America/Edmonton MST
END:STANDARD
BEGIN:DAYLIGHT
DTSTART:20210314T030000
RDATE:20211107T010000
TZOFFSETFROM:-0700
TZOFFSETTO:-0600
TZNAME:America/Edmonton MDT
END:DAYLIGHT
BEGIN:DAYLIGHT
DTSTART:20220313T030000
RDATE:20221106T010000
TZOFFSETFROM:-0700
TZOFFSETTO:-0600
TZNAME:America/Edmonton MDT
END:DAYLIGHT
BEGIN:DAYLIGHT
DTSTART:20230312T030000
RDATE:20231105T010000
TZOFFSETFROM:-0700
TZOFFSETTO:-0600
TZNAME:America/Edmonton MDT
END:DAYLIGHT
BEGIN:DAYLIGHT
DTSTART:20240310T030000
RDATE:20241103T010000
TZOFFSETFROM:-0700
TZOFFSETTO:-0600
TZNAME:America/Edmonton MDT
END:DAYLIGHT
BEGIN:DAYLIGHT
DTSTART:20250309T030000
RDATE:20251102T010000
TZOFFSETFROM:-0700
TZOFFSETTO:-0600
TZNAME:America/Edmonton MDT
END:DAYLIGHT
BEGIN:DAYLIGHT
DTSTART:20260308T030000
RDATE:20261101T010000
TZOFFSETFROM:-0700
TZOFFSETTO:-0600
TZNAME:America/Edmonton MDT
END:DAYLIGHT
BEGIN:DAYLIGHT
DTSTART:20270314T030000
RDATE:20271107T010000
TZOFFSETFROM:-0700
TZOFFSETTO:-0600
TZNAME:America/Edmonton MDT
END:DAYLIGHT
BEGIN:DAYLIGHT
DTSTART:20280312T030000
RDATE:20281105T010000
TZOFFSETFROM:-0700
TZOFFSETTO:-0600
TZNAME:America/Edmonton MDT
END:DAYLIGHT
BEGIN:DAYLIGHT
DTSTART:20290311T030000
RDATE:20291104T010000
TZOFFSETFROM:-0700
TZOFFSETTO:-0600
TZNAME:America/Edmonton MDT
END:DAYLIGHT
BEGIN:DAYLIGHT
DTSTART:20300310T030000
RDATE:20301103T010000
TZOFFSETFROM:-0700
TZOFFSETTO:-0600
TZNAME:America/Edmonton MDT
END:DAYLIGHT
BEGIN:DAYLIGHT
DTSTART:20310309T030000
RDATE:20311102T010000
TZOFFSETFROM:-0700
TZOFFSETTO:-0600
TZNAME:America/Edmonton MDT
END:DAYLIGHT
END:VTIMEZONE
BEGIN:VEVENT
UID:1o2qasidki5krnbpulbpgvnmn1@google.com
CATEGORIES:DEFAULT
CREATED:20211029T173221
SUMMARY:Galala 2021
DESCRIPTION;ENCODING=QUOTED-PRINTABLE:Le Galala&nbsp; est l’événement par excellence organisé par le Centre de dé
 veloppement musical (CDM) qui permet aux artistes et musiciens amateurs de 
 participer à un spectacle de haute qualité, accompagnés de musiciens profes
 sionnels. Que ce soit par la chanson, par l’interprétation instrumentale ou
  par la danse, le Galala permet aux participants de 8 ans et plus de connaî
 tre la magie de la scène et de faire connaître leurs talents.\n\nPour vous 
 inscrire:&nbsp;Inscription Galala 2022\n\nPour plus d'informations:&nbsp;\n
 Paul Cournoyer, coordonnateur de projets au CDM\nThis email address is bein
 g protected from spambots. You need JavaScript enabled to view it.
				docu
 ment.getElementById('cloak53f669f8e3ae4150be965f1175bf2d3d').innerHTML = ''
 ;
				var prefix = '&#109;a' + 'i&#108;' + '&#116;o';
				var path = 'hr' +
  'ef' + '=';
				var addy53f669f8e3ae4150be965f1175bf2d3d = 'c&#111;&#111;r
 d&#105;n&#97;t&#105;&#111;n' + '&#64;';
				addy53f669f8e3ae4150be965f1175b
 f2d3d = addy53f669f8e3ae4150be965f1175bf2d3d + 'cdm&#97;lb&#101;rt&#97;' + 
 '&#46;' + 'c&#97;';
				var addy_text53f669f8e3ae4150be965f1175bf2d3d = 'c&
 #111;&#111;rd&#105;n&#97;t&#105;&#111;n' + '&#64;' + 'cdm&#97;lb&#101;rt&#9
 7;' + '&#46;' + 'c&#97;';document.getElementById('cloak53f669f8e3ae4150be96
 5f1175bf2d3d').innerHTML += ''+addy_text53f669f8e3ae4150be965f1175bf2d3d+''
 ;
		&nbsp;
DTSTAMP:20260419T084128Z
DTSTART;TZID=America/Edmonton;VALUE=DATE:20220226
DTEND;TZID=America/Edmonton;VALUE=DATE:20220228
SEQUENCE:0
TRANSP:OPAQUE
END:VEVENT
END:VCALENDAR