BEGIN:VCALENDAR
VERSION:2.0
PRODID:-//jEvents 2.0 for Joomla//EN
CALSCALE:GREGORIAN
METHOD:PUBLISH
BEGIN:VTIMEZONE
TZID:America/Edmonton
BEGIN:STANDARD
DTSTART:20210227T000000
RDATE:20210314T030000
TZOFFSETFROM:-0600
TZOFFSETTO:-0700
TZNAME:America/Edmonton MST
END:STANDARD
BEGIN:STANDARD
DTSTART:20211107T010000
RDATE:20220313T030000
TZOFFSETFROM:-0600
TZOFFSETTO:-0700
TZNAME:America/Edmonton MST
END:STANDARD
BEGIN:STANDARD
DTSTART:20221106T010000
RDATE:20230312T030000
TZOFFSETFROM:-0600
TZOFFSETTO:-0700
TZNAME:America/Edmonton MST
END:STANDARD
BEGIN:STANDARD
DTSTART:20231105T010000
RDATE:20240310T030000
TZOFFSETFROM:-0600
TZOFFSETTO:-0700
TZNAME:America/Edmonton MST
END:STANDARD
BEGIN:STANDARD
DTSTART:20241103T010000
RDATE:20250309T030000
TZOFFSETFROM:-0600
TZOFFSETTO:-0700
TZNAME:America/Edmonton MST
END:STANDARD
BEGIN:STANDARD
DTSTART:20251102T010000
RDATE:20260308T030000
TZOFFSETFROM:-0600
TZOFFSETTO:-0700
TZNAME:America/Edmonton MST
END:STANDARD
BEGIN:STANDARD
DTSTART:20261101T010000
RDATE:20270314T030000
TZOFFSETFROM:-0600
TZOFFSETTO:-0700
TZNAME:America/Edmonton MST
END:STANDARD
BEGIN:STANDARD
DTSTART:20271107T010000
RDATE:20280312T030000
TZOFFSETFROM:-0600
TZOFFSETTO:-0700
TZNAME:America/Edmonton MST
END:STANDARD
BEGIN:STANDARD
DTSTART:20281105T010000
RDATE:20290311T030000
TZOFFSETFROM:-0600
TZOFFSETTO:-0700
TZNAME:America/Edmonton MST
END:STANDARD
BEGIN:STANDARD
DTSTART:20291104T010000
RDATE:20300310T030000
TZOFFSETFROM:-0600
TZOFFSETTO:-0700
TZNAME:America/Edmonton MST
END:STANDARD
BEGIN:STANDARD
DTSTART:20301103T010000
RDATE:20310309T030000
TZOFFSETFROM:-0600
TZOFFSETTO:-0700
TZNAME:America/Edmonton MST
END:STANDARD
BEGIN:STANDARD
DTSTART:20311102T010000
RDATE:20320314T030000
TZOFFSETFROM:-0600
TZOFFSETTO:-0700
TZNAME:America/Edmonton MST
END:STANDARD
BEGIN:DAYLIGHT
DTSTART:20210314T030000
RDATE:20211107T010000
TZOFFSETFROM:-0700
TZOFFSETTO:-0600
TZNAME:America/Edmonton MDT
END:DAYLIGHT
BEGIN:DAYLIGHT
DTSTART:20220313T030000
RDATE:20221106T010000
TZOFFSETFROM:-0700
TZOFFSETTO:-0600
TZNAME:America/Edmonton MDT
END:DAYLIGHT
BEGIN:DAYLIGHT
DTSTART:20230312T030000
RDATE:20231105T010000
TZOFFSETFROM:-0700
TZOFFSETTO:-0600
TZNAME:America/Edmonton MDT
END:DAYLIGHT
BEGIN:DAYLIGHT
DTSTART:20240310T030000
RDATE:20241103T010000
TZOFFSETFROM:-0700
TZOFFSETTO:-0600
TZNAME:America/Edmonton MDT
END:DAYLIGHT
BEGIN:DAYLIGHT
DTSTART:20250309T030000
RDATE:20251102T010000
TZOFFSETFROM:-0700
TZOFFSETTO:-0600
TZNAME:America/Edmonton MDT
END:DAYLIGHT
BEGIN:DAYLIGHT
DTSTART:20260308T030000
RDATE:20261101T010000
TZOFFSETFROM:-0700
TZOFFSETTO:-0600
TZNAME:America/Edmonton MDT
END:DAYLIGHT
BEGIN:DAYLIGHT
DTSTART:20270314T030000
RDATE:20271107T010000
TZOFFSETFROM:-0700
TZOFFSETTO:-0600
TZNAME:America/Edmonton MDT
END:DAYLIGHT
BEGIN:DAYLIGHT
DTSTART:20280312T030000
RDATE:20281105T010000
TZOFFSETFROM:-0700
TZOFFSETTO:-0600
TZNAME:America/Edmonton MDT
END:DAYLIGHT
BEGIN:DAYLIGHT
DTSTART:20290311T030000
RDATE:20291104T010000
TZOFFSETFROM:-0700
TZOFFSETTO:-0600
TZNAME:America/Edmonton MDT
END:DAYLIGHT
BEGIN:DAYLIGHT
DTSTART:20300310T030000
RDATE:20301103T010000
TZOFFSETFROM:-0700
TZOFFSETTO:-0600
TZNAME:America/Edmonton MDT
END:DAYLIGHT
BEGIN:DAYLIGHT
DTSTART:20310309T030000
RDATE:20311102T010000
TZOFFSETFROM:-0700
TZOFFSETTO:-0600
TZNAME:America/Edmonton MDT
END:DAYLIGHT
END:VTIMEZONE
BEGIN:VEVENT
UID:5gp7e07q4275p1u8ajuuir38oa@google.com
CATEGORIES:DEFAULT
CREATED:20220322T104147
SUMMARY:Date limite des textes Plumes jeunesse
LOCATION:CSCN-Web
DESCRIPTION;ENCODING=QUOTED-PRINTABLE:Date limite de remise des textes ou dessins pour le projet Plumes jeunesse.
   <br/><br/>Veuillez communiquer avec Renée Levesque-Gauvreau au bureau cen
 tral <span id="cloak68d9e20130555f918bc37ff02a855789">This email address is
  being protected from spambots. You need JavaScript enabled to view it.</sp
 an><script type='text/javascript'>
				document.getElementById('cloak68d9e2
 0130555f918bc37ff02a855789').innerHTML = '';
				var prefix = '&#109;a' + '
 i&#108;' + '&#116;o';
				var path = 'hr' + 'ef' + '=';
				var addy68d9e20
 130555f918bc37ff02a855789 = 'rlg&#97;&#117;vr&#101;&#97;&#117;' + '&#64;';

 				addy68d9e20130555f918bc37ff02a855789 = addy68d9e20130555f918bc37ff02a85
 5789 + 'c&#101;ntr&#101;n&#111;rd' + '&#46;' + '&#97;b' + '&#46;' + 'c&#97;
 ';
				var addy_text68d9e20130555f918bc37ff02a855789 = 'rlg&#97;&#117;vr&#1
 01;&#97;&#117;' + '&#64;' + 'c&#101;ntr&#101;n&#111;rd' + '&#46;' + '&#97;b
 ' + '&#46;' + 'c&#97;';document.getElementById('cloak68d9e20130555f918bc37f
 f02a855789').innerHTML += '<a ' + path + '\'' + prefix + ':' + addy68d9e201
 30555f918bc37ff02a855789 + '\'>'+addy_text68d9e20130555f918bc37ff02a855789+
 '<\/a>';
		</script> si vous avez des question.  
DTSTAMP:20260419T084833Z
DTSTART;TZID=America/Edmonton;VALUE=DATE:20220228
DTEND;TZID=America/Edmonton;VALUE=DATE:20220301
SEQUENCE:1
TRANSP:OPAQUE
END:VEVENT
END:VCALENDAR