BEGIN:VCALENDAR
VERSION:2.0
PRODID:-//jEvents 2.0 for Joomla//EN
CALSCALE:GREGORIAN
METHOD:PUBLISH
BEGIN:VTIMEZONE
TZID:America/Edmonton
BEGIN:STANDARD
DTSTART:20210218T000000
RDATE:20210314T030000
TZOFFSETFROM:-0600
TZOFFSETTO:-0700
TZNAME:America/Edmonton MST
END:STANDARD
BEGIN:STANDARD
DTSTART:20211107T010000
RDATE:20220313T030000
TZOFFSETFROM:-0600
TZOFFSETTO:-0700
TZNAME:America/Edmonton MST
END:STANDARD
BEGIN:STANDARD
DTSTART:20221106T010000
RDATE:20230312T030000
TZOFFSETFROM:-0600
TZOFFSETTO:-0700
TZNAME:America/Edmonton MST
END:STANDARD
BEGIN:STANDARD
DTSTART:20231105T010000
RDATE:20240310T030000
TZOFFSETFROM:-0600
TZOFFSETTO:-0700
TZNAME:America/Edmonton MST
END:STANDARD
BEGIN:STANDARD
DTSTART:20241103T010000
RDATE:20250309T030000
TZOFFSETFROM:-0600
TZOFFSETTO:-0700
TZNAME:America/Edmonton MST
END:STANDARD
BEGIN:STANDARD
DTSTART:20251102T010000
RDATE:20260308T030000
TZOFFSETFROM:-0600
TZOFFSETTO:-0700
TZNAME:America/Edmonton MST
END:STANDARD
BEGIN:STANDARD
DTSTART:20261101T010000
RDATE:20270314T030000
TZOFFSETFROM:-0600
TZOFFSETTO:-0700
TZNAME:America/Edmonton MST
END:STANDARD
BEGIN:STANDARD
DTSTART:20271107T010000
RDATE:20280312T030000
TZOFFSETFROM:-0600
TZOFFSETTO:-0700
TZNAME:America/Edmonton MST
END:STANDARD
BEGIN:STANDARD
DTSTART:20281105T010000
RDATE:20290311T030000
TZOFFSETFROM:-0600
TZOFFSETTO:-0700
TZNAME:America/Edmonton MST
END:STANDARD
BEGIN:STANDARD
DTSTART:20291104T010000
RDATE:20300310T030000
TZOFFSETFROM:-0600
TZOFFSETTO:-0700
TZNAME:America/Edmonton MST
END:STANDARD
BEGIN:STANDARD
DTSTART:20301103T010000
RDATE:20310309T030000
TZOFFSETFROM:-0600
TZOFFSETTO:-0700
TZNAME:America/Edmonton MST
END:STANDARD
BEGIN:STANDARD
DTSTART:20311102T010000
RDATE:20320314T030000
TZOFFSETFROM:-0600
TZOFFSETTO:-0700
TZNAME:America/Edmonton MST
END:STANDARD
BEGIN:DAYLIGHT
DTSTART:20210314T030000
RDATE:20211107T010000
TZOFFSETFROM:-0700
TZOFFSETTO:-0600
TZNAME:America/Edmonton MDT
END:DAYLIGHT
BEGIN:DAYLIGHT
DTSTART:20220313T030000
RDATE:20221106T010000
TZOFFSETFROM:-0700
TZOFFSETTO:-0600
TZNAME:America/Edmonton MDT
END:DAYLIGHT
BEGIN:DAYLIGHT
DTSTART:20230312T030000
RDATE:20231105T010000
TZOFFSETFROM:-0700
TZOFFSETTO:-0600
TZNAME:America/Edmonton MDT
END:DAYLIGHT
BEGIN:DAYLIGHT
DTSTART:20240310T030000
RDATE:20241103T010000
TZOFFSETFROM:-0700
TZOFFSETTO:-0600
TZNAME:America/Edmonton MDT
END:DAYLIGHT
BEGIN:DAYLIGHT
DTSTART:20250309T030000
RDATE:20251102T010000
TZOFFSETFROM:-0700
TZOFFSETTO:-0600
TZNAME:America/Edmonton MDT
END:DAYLIGHT
BEGIN:DAYLIGHT
DTSTART:20260308T030000
RDATE:20261101T010000
TZOFFSETFROM:-0700
TZOFFSETTO:-0600
TZNAME:America/Edmonton MDT
END:DAYLIGHT
BEGIN:DAYLIGHT
DTSTART:20270314T030000
RDATE:20271107T010000
TZOFFSETFROM:-0700
TZOFFSETTO:-0600
TZNAME:America/Edmonton MDT
END:DAYLIGHT
BEGIN:DAYLIGHT
DTSTART:20280312T030000
RDATE:20281105T010000
TZOFFSETFROM:-0700
TZOFFSETTO:-0600
TZNAME:America/Edmonton MDT
END:DAYLIGHT
BEGIN:DAYLIGHT
DTSTART:20290311T030000
RDATE:20291104T010000
TZOFFSETFROM:-0700
TZOFFSETTO:-0600
TZNAME:America/Edmonton MDT
END:DAYLIGHT
BEGIN:DAYLIGHT
DTSTART:20300310T030000
RDATE:20301103T010000
TZOFFSETFROM:-0700
TZOFFSETTO:-0600
TZNAME:America/Edmonton MDT
END:DAYLIGHT
BEGIN:DAYLIGHT
DTSTART:20310309T030000
RDATE:20311102T010000
TZOFFSETFROM:-0700
TZOFFSETTO:-0600
TZNAME:America/Edmonton MDT
END:DAYLIGHT
END:VTIMEZONE
BEGIN:VEVENT
UID:7ej4djhs8pjaj91ia44js3283r@google.com
CATEGORIES:DEFAULT
CREATED:20220322T104147
SUMMARY:Journée de la Famille à l'IGLF
LOCATION:CSCN-Web
DESCRIPTION;ENCODING=QUOTED-PRINTABLE:<blockquote><br><center><table><tbody><tr><td><table><tbody><tr><td><table>
 <tbody><tr><td><table><tbody><tr><td><br><p>À l'occasion de la&nbsp;<em>Jou
 rnée de la famille</em>, l’Institut Guy-Lacombe de la famille vous propose 
 diverses activités en famille au<strong>&nbsp;Centre communautaire de Bonni
 e Doon</strong>: Patin sur glace, glissade, bricolage et bien plus encore!<
 /p><p>Cet événement aura lieu le&nbsp;<strong>samedi 19 février 2022 de 11h
 00 à 14h00</strong>.</p><p>À noter que nous ne fournissons pas d’équipement
 s. Veuillez s’il vous plaît apporter vos paires de patins ou traîneaux. Mer
 ci !</p><p><strong>***COVID-19:&nbsp;Informations importantes***</strong></
 p><ul><li><p>Pour accéder au Centre communautaire de Bonnie Doon,&nbsp;tous
  les clients et visiteurs âgés de 12 ans et plus&nbsp;devront fournir une&n
 bsp;<a href="https://institutguylacombe.us1.list-manage.com/track/click?u=d
 c6f786ce7615c8b0bd2448c0&amp;id=79f138a872&amp;e=1452afba90"><strong>preuve
  de vaccination en format papier ou électronique (avec le code QR )</strong
 ></a></p></li><li><p>La preuve doit être accompagnée d'une pièce d'identité
  avec photo, émise par le gouvernement</p></li><li><p>Les seules personnes 
 qui n'ont&nbsp;<strong>PAS&nbsp;</strong>besoin de démontrer une preuve de 
 vaccination sont&nbsp;les enfants âgés de moins de 12 ans</p></li></ul><p>P
 our vous inscrire, veuillez cliquer sur le lien ci-dessous:</p></td></tr><t
 r><td><table><tbody><tr><td><a href="https://institutguylacombe.us1.list-ma
 nage.com/track/click?u=dc6f786ce7615c8b0bd2448c0&amp;id=c32d77625b&amp;e=14
 52afba90" id="ow3936" __is_owner="true">Inscrivez-vous</a></td></tr></tbody
 ></table></td></tr></tbody></table></td></tr></tbody></table></td></tr></tb
 ody></table></td></tr></tbody></table></center></blockquote>
DTSTAMP:20260419T084849Z
DTSTART;TZID=America/Edmonton;VALUE=DATE:20220219
DTEND;TZID=America/Edmonton;VALUE=DATE:20220220
SEQUENCE:1
TRANSP:OPAQUE
END:VEVENT
END:VCALENDAR