BEGIN:VCALENDAR
VERSION:2.0
PRODID:-//jEvents 2.0 for Joomla//EN
CALSCALE:GREGORIAN
METHOD:PUBLISH
BEGIN:VTIMEZONE
TZID:America/Edmonton
BEGIN:STANDARD
DTSTART:20210131T000000
RDATE:20210314T030000
TZOFFSETFROM:-0600
TZOFFSETTO:-0700
TZNAME:America/Edmonton MST
END:STANDARD
BEGIN:STANDARD
DTSTART:20211107T010000
RDATE:20220313T030000
TZOFFSETFROM:-0600
TZOFFSETTO:-0700
TZNAME:America/Edmonton MST
END:STANDARD
BEGIN:STANDARD
DTSTART:20221106T010000
RDATE:20230312T030000
TZOFFSETFROM:-0600
TZOFFSETTO:-0700
TZNAME:America/Edmonton MST
END:STANDARD
BEGIN:STANDARD
DTSTART:20231105T010000
RDATE:20240310T030000
TZOFFSETFROM:-0600
TZOFFSETTO:-0700
TZNAME:America/Edmonton MST
END:STANDARD
BEGIN:STANDARD
DTSTART:20241103T010000
RDATE:20250309T030000
TZOFFSETFROM:-0600
TZOFFSETTO:-0700
TZNAME:America/Edmonton MST
END:STANDARD
BEGIN:STANDARD
DTSTART:20251102T010000
RDATE:20260308T030000
TZOFFSETFROM:-0600
TZOFFSETTO:-0700
TZNAME:America/Edmonton MST
END:STANDARD
BEGIN:STANDARD
DTSTART:20261101T010000
RDATE:20270314T030000
TZOFFSETFROM:-0600
TZOFFSETTO:-0700
TZNAME:America/Edmonton MST
END:STANDARD
BEGIN:STANDARD
DTSTART:20271107T010000
RDATE:20280312T030000
TZOFFSETFROM:-0600
TZOFFSETTO:-0700
TZNAME:America/Edmonton MST
END:STANDARD
BEGIN:STANDARD
DTSTART:20281105T010000
RDATE:20290311T030000
TZOFFSETFROM:-0600
TZOFFSETTO:-0700
TZNAME:America/Edmonton MST
END:STANDARD
BEGIN:STANDARD
DTSTART:20291104T010000
RDATE:20300310T030000
TZOFFSETFROM:-0600
TZOFFSETTO:-0700
TZNAME:America/Edmonton MST
END:STANDARD
BEGIN:STANDARD
DTSTART:20301103T010000
RDATE:20310309T030000
TZOFFSETFROM:-0600
TZOFFSETTO:-0700
TZNAME:America/Edmonton MST
END:STANDARD
BEGIN:STANDARD
DTSTART:20311102T010000
RDATE:20320314T030000
TZOFFSETFROM:-0600
TZOFFSETTO:-0700
TZNAME:America/Edmonton MST
END:STANDARD
BEGIN:DAYLIGHT
DTSTART:20210314T030000
RDATE:20211107T010000
TZOFFSETFROM:-0700
TZOFFSETTO:-0600
TZNAME:America/Edmonton MDT
END:DAYLIGHT
BEGIN:DAYLIGHT
DTSTART:20220313T030000
RDATE:20221106T010000
TZOFFSETFROM:-0700
TZOFFSETTO:-0600
TZNAME:America/Edmonton MDT
END:DAYLIGHT
BEGIN:DAYLIGHT
DTSTART:20230312T030000
RDATE:20231105T010000
TZOFFSETFROM:-0700
TZOFFSETTO:-0600
TZNAME:America/Edmonton MDT
END:DAYLIGHT
BEGIN:DAYLIGHT
DTSTART:20240310T030000
RDATE:20241103T010000
TZOFFSETFROM:-0700
TZOFFSETTO:-0600
TZNAME:America/Edmonton MDT
END:DAYLIGHT
BEGIN:DAYLIGHT
DTSTART:20250309T030000
RDATE:20251102T010000
TZOFFSETFROM:-0700
TZOFFSETTO:-0600
TZNAME:America/Edmonton MDT
END:DAYLIGHT
BEGIN:DAYLIGHT
DTSTART:20260308T030000
RDATE:20261101T010000
TZOFFSETFROM:-0700
TZOFFSETTO:-0600
TZNAME:America/Edmonton MDT
END:DAYLIGHT
BEGIN:DAYLIGHT
DTSTART:20270314T030000
RDATE:20271107T010000
TZOFFSETFROM:-0700
TZOFFSETTO:-0600
TZNAME:America/Edmonton MDT
END:DAYLIGHT
BEGIN:DAYLIGHT
DTSTART:20280312T030000
RDATE:20281105T010000
TZOFFSETFROM:-0700
TZOFFSETTO:-0600
TZNAME:America/Edmonton MDT
END:DAYLIGHT
BEGIN:DAYLIGHT
DTSTART:20290311T030000
RDATE:20291104T010000
TZOFFSETFROM:-0700
TZOFFSETTO:-0600
TZNAME:America/Edmonton MDT
END:DAYLIGHT
BEGIN:DAYLIGHT
DTSTART:20300310T030000
RDATE:20301103T010000
TZOFFSETFROM:-0700
TZOFFSETTO:-0600
TZNAME:America/Edmonton MDT
END:DAYLIGHT
BEGIN:DAYLIGHT
DTSTART:20310309T030000
RDATE:20311102T010000
TZOFFSETFROM:-0700
TZOFFSETTO:-0600
TZNAME:America/Edmonton MDT
END:DAYLIGHT
END:VTIMEZONE
BEGIN:VEVENT
UID:40mjso1i10pja57i9a0rpr70vb@google.com
CATEGORIES:DEFAULT
CREATED:20220322T104147
SUMMARY:Marche hivernale pour les écoles
DESCRIPTION;ENCODING=QUOTED-PRINTABLE:La FSFA invite les écoles à faire une marche hivernale.&nbsp;&nbsp;\n\n&nbs
 p;\nUn prix pour les élèves sera des bouteilles d'eau pour une classe tirée
  au sort&nbsp;parmi toutes les classes participantes.\n\nLes tirages se fer
 ont le lundi 7 février.\n\nMarche&nbsp;hivernale\n\n\n\nNous espérons que v
 os classes seront nombreuses à participer à ces défis.\n\nN'hésitez pas à c
 ommuniquer avec moi si vous avez des questions supplémentaires,\n\n\n\n\nKe
 egan Paterson - This email address is being protected from spambots. You ne
 ed JavaScript enabled to view it.
				document.getElementById('cloakf50a262
 49496ffdc9edb187261b9614b').innerHTML = '';
				var prefix = '&#109;a' + 'i
 &#108;' + '&#116;o';
				var path = 'hr' + 'ef' + '=';
				var addyf50a2624
 9496ffdc9edb187261b9614b = 'k.p&#97;t&#101;rs&#111;n' + '&#64;';
				addyf5
 0a26249496ffdc9edb187261b9614b = addyf50a26249496ffdc9edb187261b9614b + 'l&
 #97;fsf&#97;' + '&#46;' + 'c&#97;';
				var addy_textf50a26249496ffdc9edb18
 7261b9614b = 'k.p&#97;t&#101;rs&#111;n' + '&#64;' + 'l&#97;fsf&#97;' + '&#4
 6;' + 'c&#97;';document.getElementById('cloakf50a26249496ffdc9edb187261b961
 4b').innerHTML += ''+addy_textf50a26249496ffdc9edb187261b9614b+'';
		&nbsp;
DTSTAMP:20260419T084332Z
DTSTART;TZID=America/Edmonton;VALUE=DATE:20220201
DTEND;TZID=America/Edmonton;VALUE=DATE:20220205
SEQUENCE:0
TRANSP:OPAQUE
END:VEVENT
END:VCALENDAR