BEGIN:VCALENDAR
VERSION:2.0
PRODID:-//jEvents 2.0 for Joomla//EN
CALSCALE:GREGORIAN
METHOD:PUBLISH
BEGIN:VTIMEZONE
TZID:America/Edmonton
BEGIN:STANDARD
DTSTART:20210216T190000
RDATE:20210314T030000
TZOFFSETFROM:-0600
TZOFFSETTO:-0700
TZNAME:America/Edmonton MST
END:STANDARD
BEGIN:STANDARD
DTSTART:20211107T010000
RDATE:20220313T030000
TZOFFSETFROM:-0600
TZOFFSETTO:-0700
TZNAME:America/Edmonton MST
END:STANDARD
BEGIN:STANDARD
DTSTART:20221106T010000
RDATE:20230312T030000
TZOFFSETFROM:-0600
TZOFFSETTO:-0700
TZNAME:America/Edmonton MST
END:STANDARD
BEGIN:STANDARD
DTSTART:20231105T010000
RDATE:20240310T030000
TZOFFSETFROM:-0600
TZOFFSETTO:-0700
TZNAME:America/Edmonton MST
END:STANDARD
BEGIN:STANDARD
DTSTART:20241103T010000
RDATE:20250309T030000
TZOFFSETFROM:-0600
TZOFFSETTO:-0700
TZNAME:America/Edmonton MST
END:STANDARD
BEGIN:STANDARD
DTSTART:20251102T010000
RDATE:20260308T030000
TZOFFSETFROM:-0600
TZOFFSETTO:-0700
TZNAME:America/Edmonton MST
END:STANDARD
BEGIN:STANDARD
DTSTART:20261101T010000
RDATE:20270314T030000
TZOFFSETFROM:-0600
TZOFFSETTO:-0700
TZNAME:America/Edmonton MST
END:STANDARD
BEGIN:STANDARD
DTSTART:20271107T010000
RDATE:20280312T030000
TZOFFSETFROM:-0600
TZOFFSETTO:-0700
TZNAME:America/Edmonton MST
END:STANDARD
BEGIN:STANDARD
DTSTART:20281105T010000
RDATE:20290311T030000
TZOFFSETFROM:-0600
TZOFFSETTO:-0700
TZNAME:America/Edmonton MST
END:STANDARD
BEGIN:STANDARD
DTSTART:20291104T010000
RDATE:20300310T030000
TZOFFSETFROM:-0600
TZOFFSETTO:-0700
TZNAME:America/Edmonton MST
END:STANDARD
BEGIN:STANDARD
DTSTART:20301103T010000
RDATE:20310309T030000
TZOFFSETFROM:-0600
TZOFFSETTO:-0700
TZNAME:America/Edmonton MST
END:STANDARD
BEGIN:STANDARD
DTSTART:20311102T010000
RDATE:20320314T030000
TZOFFSETFROM:-0600
TZOFFSETTO:-0700
TZNAME:America/Edmonton MST
END:STANDARD
BEGIN:DAYLIGHT
DTSTART:20210314T030000
RDATE:20211107T010000
TZOFFSETFROM:-0700
TZOFFSETTO:-0600
TZNAME:America/Edmonton MDT
END:DAYLIGHT
BEGIN:DAYLIGHT
DTSTART:20220313T030000
RDATE:20221106T010000
TZOFFSETFROM:-0700
TZOFFSETTO:-0600
TZNAME:America/Edmonton MDT
END:DAYLIGHT
BEGIN:DAYLIGHT
DTSTART:20230312T030000
RDATE:20231105T010000
TZOFFSETFROM:-0700
TZOFFSETTO:-0600
TZNAME:America/Edmonton MDT
END:DAYLIGHT
BEGIN:DAYLIGHT
DTSTART:20240310T030000
RDATE:20241103T010000
TZOFFSETFROM:-0700
TZOFFSETTO:-0600
TZNAME:America/Edmonton MDT
END:DAYLIGHT
BEGIN:DAYLIGHT
DTSTART:20250309T030000
RDATE:20251102T010000
TZOFFSETFROM:-0700
TZOFFSETTO:-0600
TZNAME:America/Edmonton MDT
END:DAYLIGHT
BEGIN:DAYLIGHT
DTSTART:20260308T030000
RDATE:20261101T010000
TZOFFSETFROM:-0700
TZOFFSETTO:-0600
TZNAME:America/Edmonton MDT
END:DAYLIGHT
BEGIN:DAYLIGHT
DTSTART:20270314T030000
RDATE:20271107T010000
TZOFFSETFROM:-0700
TZOFFSETTO:-0600
TZNAME:America/Edmonton MDT
END:DAYLIGHT
BEGIN:DAYLIGHT
DTSTART:20280312T030000
RDATE:20281105T010000
TZOFFSETFROM:-0700
TZOFFSETTO:-0600
TZNAME:America/Edmonton MDT
END:DAYLIGHT
BEGIN:DAYLIGHT
DTSTART:20290311T030000
RDATE:20291104T010000
TZOFFSETFROM:-0700
TZOFFSETTO:-0600
TZNAME:America/Edmonton MDT
END:DAYLIGHT
BEGIN:DAYLIGHT
DTSTART:20300310T030000
RDATE:20301103T010000
TZOFFSETFROM:-0700
TZOFFSETTO:-0600
TZNAME:America/Edmonton MDT
END:DAYLIGHT
BEGIN:DAYLIGHT
DTSTART:20310309T030000
RDATE:20311102T010000
TZOFFSETFROM:-0700
TZOFFSETTO:-0600
TZNAME:America/Edmonton MDT
END:DAYLIGHT
END:VTIMEZONE
BEGIN:VEVENT
UID:5efsvv53b76dus9k3i0e885uqv@google.com
CATEGORIES:DEFAULT
CREATED:20220322T104147
SUMMARY:Atelier FPFA: Être finissant d'une école francophone
DESCRIPTION;ENCODING=QUOTED-PRINTABLE:Planifier des études secondaires est une étape importante dans le chemineme
 nt d'un jeune vers la vie adulte.  <br/><br/>Cet atelier vous permettra de 
 comprendre comment le cycle de la 10e à la 12e année fonctionne, et vous fo
 urnira les informations nécessaires pour répondre à vos questions.  <br/><b
 r/>Formation en ligne.  Pour vous inscrire:  <a href="https://fpfa.wufoo.co
 m/forms/k1pwzm1i1m8fo26/">https://fpfa.wufoo.com/forms/k1pwzm1i1m8fo26/</a>
 <br/><br/>Veuillez communiquer avec la Fédération des parents francophones 
 de l'Alberta pour plus de détails: <span id="cloakd8a2bf261b83631fb7dd13206
 5938b07">This email address is being protected from spambots. You need Java
 Script enabled to view it.</span><script type='text/javascript'>
				docume
 nt.getElementById('cloakd8a2bf261b83631fb7dd132065938b07').innerHTML = '';

 				var prefix = '&#109;a' + 'i&#108;' + '&#116;o';
				var path = 'hr' + '
 ef' + '=';
				var addyd8a2bf261b83631fb7dd132065938b07 = 'c&#111;mm&#117;n
 &#105;c&#97;t&#105;&#111;n' + '&#64;';
				addyd8a2bf261b83631fb7dd13206593
 8b07 = addyd8a2bf261b83631fb7dd132065938b07 + 'fpf&#97;' + '&#46;' + '&#97;
 b' + '&#46;' + 'c&#97;';
				var addy_textd8a2bf261b83631fb7dd132065938b07 
 = 'c&#111;mm&#117;n&#105;c&#97;t&#105;&#111;n' + '&#64;' + 'fpf&#97;' + '&#
 46;' + '&#97;b' + '&#46;' + 'c&#97;';document.getElementById('cloakd8a2bf26
 1b83631fb7dd132065938b07').innerHTML += '<a ' + path + '\'' + prefix + ':' 
 + addyd8a2bf261b83631fb7dd132065938b07 + '\'>'+addy_textd8a2bf261b83631fb7d
 d132065938b07+'<\/a>';
		</script> 
DTSTAMP:20260419T084716Z
DTSTART;TZID=America/Edmonton:20220217T190000
DTEND;TZID=America/Edmonton:20220217T203000
SEQUENCE:0
TRANSP:OPAQUE
END:VEVENT
END:VCALENDAR